Workbook

Sheet Cover
B11: TOMTOM FINANCIAL DATA PACK Q3 '26

Sheet 1. Key figures table
B2: Key figures
B3: Third quarter 2026 results
B5: Key figures
B6: (€ in thousands, unless stated otherwise) | C6: Q3 '26 | D6: Q3 '25 | E6: y.o.y. change | F6: YTD '26 | G6: YTD '25 | H6: y.o.y. change
B7: Location Technology | C7: 114763000 | D7: 118260000 | E7: -0.029570438 | F7: 348371000 | G7: 365966000 | H7: -0.048078237
B8: Automotive | C8: 77654000 | D8: 79545000 | E8: -0.023772707 | F8: 234464000 | G8: 245576000 | H8: -0.045248721
B9: Enterprise | C9: 37109000 | D9: 38715000 | E9: -0.041482629 | F9: 113907000 | G9: 120390000 | H9: -0.053849988
B10: Consumer | C10: 14167000 | D10: 18624000 | E10: -0.23931486 | F10: 44286000 | G10: 57520000 | H10: -0.2300765
B11: Revenue | C11: 128930000 | D11: 136884000 | E11: -0.058107595 | F11: 392657000 | G11: 423486000 | H11: -0.072798156
B12: Gross profit | C12: 116652000 | D12: 122113000 | E12: -0.044720873 | F12: 354709000 | G12: 373585000 | H12: -0.050526654
B13: Gross margin | C13: 0.90477003 | D13: 0.89209111 | F13: 0.90335586 | G13: 0.88216612
B14: Operating expenses | C14: -110604000 | D14: -113699000 | E14: -0.027220996 | F14: -326390000 | G14: -379270000 | H14: -0.13942574
B15: EBIT | C15: 6048000 | D15: 8414000 | F15: 28319000 | G15: -5685000
B16: EBIT margin | C16: 0.046909176 | D16: 0.061468104 | F16: 0.07212147 | G16: -0.013424293
B17: Net result | C17: 5121000 | D17: 9098000 | F17: 25985000 | G17: -11520000
B18: Free cash flow (FCF)¹ | C18: 7608000 | D18: 16629000 | F18: 756000 | G18: 27529000
B19: FCF¹ as a % of revenue | C19: 0.059008764 | D19: 0.12148242 | F19: 0.0019253445 | G19: 0.065005691
B20: ¹ Free cash flow excludes restructuring payments related to the organizational realignment announced in June 2025.
B22: (€ in thousands) | C22: Q3 '26 | D22: Q3 '25 | E22: y.o.y. change | F22: YTD '26 | G22: YTD '25 | H22: y.o.y. change
B23: Automotive reported revenue | C23: 77654000 | D23: 79545000 | E23: -0.023772707 | F23: 234464000 | G23: 245576000 | H23: -0.045248721
B24: Movement of Automotive deferred revenue | C24: -9253000 | D24: 5229000 | F24: -20426000 | G24: -900000
B25: Automotive operational revenue | C25: 68401000 | D25: 84774000 | E25: -0.19313705 | F25: 214038000 | G25: 244676000 | H25: -0.12521866
B28: Free cash flow reconciliation from operating result to net cash movement
B29: (€ in thousands) | C29: Q3 '26 | D29: Q3 '25 | E29: YTD '26 | F29: YTD '25
B30: Operating result | C30: 6048000 | D30: 8414000 | E30: 28319000 | F30: -5685000
B31: Depreciation and amortization | C31: 3977000 | D31: 4350000 | E31: 12585000 | F31: 13481000
B32: Equity-settled stock compensation expenses | C32: 2654000 | D32: 3642000 | E32: 9955000 | F32: 9862000
B33: Provisions and other non-cash items | C33: 2786000 | D33: -21262000 | E33: 2298000 | F33: -575000
B34: Movements in working capital (excl. deferred revenue) | C34: 15380000 | D34: 25935000 | E34: 2557000 | F34: 46373000
B35: Movements in deferred revenue | C35: -12456000 | D35: -9902000 | E35: -22705000 | F35: -21037000
B36: Interest and tax payments | C36: -1687000 | D36: -795000 | E36: -5761000 | F36: -4016000
B37: Investments in intangible assets and property, plant and equipment | C37: -9483000 | D37: -7541000 | E37: -30551000 | F37: -24662000
B38: Free cash flow | C38: 7219000 | D38: 2841000 | E38: -3303000 | F38: 13741000
B40: Lease payments | C40: -2057000 | D40: -2385000 | E40: -6135000 | F40: -6962000
B41: Cash flow from other investing and financing activities | E41: -14198000
B42: Exchange rate differences on cash and fixed-term deposits | C42: 41000 | D42: -41000 | E42: 208000 | F42: -3487490
B43: Net cash movement | C43: 5203000 | D43: 415000 | E43: -23428000 | F43: 3291510
B46: Deferred revenue
B47: (€ in thousands) | C47: 46295 | D47: 46203 | E47: 46022
B48: Automotive | C48: 408696000 | D48: 417948000 | E48: 429121000
...

Sheet 2. Cons Stat of Income
B2: Consolidated condensed statement of income
B3: ='1. Key figures table'!$B$3 -> Third quarter 2026 results
B6: (€ in thousands) | C6: Q2 '25 | D6: Q3 '25 | E6: Q4 '25 | F6: Q1 '26 | G6: Q2 '26 | H6: Q3 '26 | J6: YTD '26 | L6: YTD '25
B7: Automotive | C7: 86356000 | D7: 79545000 | E7: 77313000 | F7: 75731000 | G7: 81079000 | H7: 77654000 | J7: 234464000 | L7: 245576000
B8: Enterprise | C8: 39884000 | D8: 38715000 | E8: 38540000 | F8: 38471000 | G8: 38327000 | H8: 37109000 | J8: 113907000 | L8: 120390000
B9: Location Technology | C9: 126240000 | D9: 118260000 | E9: 115853000 | F9: 114202000 | G9: 119406000 | H9: 114763000 | J9: 348371000 | L9: 365966000
B10: Consumer | C10: 19958000 | D10: 18624000 | E10: 15350000 | F10: 14953000 | G10: 15166000 | H10: 14167000 | J10: 44286000 | L10: 57520000
B11: Revenue | C11: 146198000 | D11: 136884000 | E11: 131203000 | F11: 129155000 | G11: 134572000 | H11: 128930000 | J11: 392657000 | L11: 423486000
B12: Cost of sales | C12: -17889000 | D12: -14771000 | E12: -14230000 | F12: -12714000 | G12: -12956000 | H12: -12278000 | J12: -37948000 | L12: -49901000
B13: Gross profit | C13: 128309000 | D13: 122113000 | E13: 116973000 | F13: 116441000 | G13: 121616000 | H13: 116652000 | J13: 354709000 | L13: 373585000
B14: Gross margin | C14: 0.87763854 | D14: 0.89209111 | E14: 0.89154211 | F14: 0.90156014 | G14: 0.9037244 | H14: 0.90477003 | J14: 0.90335586 | L14: 0.88216612
B16: Research and development expenses - Geographic data | C16: -36141000 | D16: -33980000 | E16: -37481000 | F16: -33149000 | G16: -38809000 | H16: -40787000 | J16: -112745000 | L16: -107065000
B17: Research and development expenses - Application layer | C17: -53171000 | D17: -47418000 | E17: -37597000 | F17: -40779000 | G17: -42240000 | H17: -41823000 | J17: -124842000 | L17: -148026000
B18: Sales and marketing expenses | C18: -12815000 | D18: -10565000 | E18: -12744000 | F18: -10030000 | G18: -10462000 | H18: -10035000 | J18: -30527000 | L18: -35201000
B19: General and administrative expenses | C19: -45998000 | D19: -21736000 | E19: -21825000 | F19: -18716000 | G19: -21601000 | H19: -17959000 | J19: -58276000 | L19: -88978000
... B29: Net result1 | C29: -23632000 | D29: 9098000 | E29: 5124000 | F29: 13664000 | G29: 7200000 | H29: 5121000 | J29: 25985000 | L29: -11520000
B30: 1 Net result is fully attributable to equity holders of the parent.
B32: Weighted average number of shares (in thousands)
B33: Basic | C33: 124194000 | D33: 124493000 | E33: 124598000 | F33: 123752000 | G33: 123772000 | H33: 124037000 | J33: 123854688 | L33: 123954472
B34: Diluted | C34: 126973000 | D34: 127846000 | E34: 128521000 | F34: 128122000 | G34: 126742000 | H34: 126460000 | J34: 127981891 | L34: 127729716
B36: Earnings per share (in €)
B37: Basic | C37: -0.19028301 | D37: 0.073080285 | E37: 0.041124166 | F37: 0.11041475 | G37: 0.058171472 | H37: 0.041285958 | J37: 0.20980231 | L37: -0.092945416
B38: Diluted2 | C38: -0.19028301 | D38: 0.071163644 | E38: 0.039869107 | F38: 0.1066486 | G38: 0.056808243 | H38: 0.040495111 | J38: 0.20303654 | L38: -0.092945416
B39: 2 When the net result is a loss, no additional shares from assumed conversion are taken into account as the effect would be anti-dilutive.

Sheet 3. Cons Balance Sheet
B2: Consolidated condensed balance sheet
B3: ='1. Key figures table'!$B$3 -> Third quarter 2026 results
B5: (€ in thousands) | C5: 31-Mar-25 | D5: 30-Jun-25 | E5: 30-Sep-25 | F5: 31-Dec-25 | G5: 31-Mar-26 | H5: 30-Jun-26 | I5: 30-Sep-26
B6: Goodwill | C6: 192294000 | D6: 192294000 | E6: 192294000 | F6: 192294000 | G6: 192294000 | H6: 192294000 | I6: 192294000
B7: Other intangible assets | C7: 9678000 | D7: 16935000 | E7: 23666000 | F7: 31955000 | G7: 42075000 | H7: 50427000 | I7: 58561000
B8: Property, plant and equipment | C8: 20828000 | D8: 19188000 | E8: 17849000 | F8: 16862000 | G8: 15888000 | H8: 15153000 | I8: 14672000
B9: Lease assets | C9: 38963000 | D9: 38421000 | E9: 36007000 | F9: 37773000 | G9: 39655000 | H9: 39280000 | I9: 36998000
B10: Other contract-related assets | C10: 28534000 | D10: 25427000 | E10: 26553000 | F10: 27664000 | G10: 28374000 | H10: 28922000 | I10: 29269000
B11: Other investments | C11: 0 | D11: 0 | E11: 0 | F11: 0 | G11: 0 | H11: 0 | I11: 0
B12: Deferred tax assets | C12: 1276000 | D12: 1255000 | E12: 1256000 | F12: 1074000 | G12: 1078000 | H12: 1081000 | I12: 1083000
B13: Total non-current assets | C13: 291573000 | D13: 293520000 | E13: 297625000 | F13: 307622000 | G13: 319364000 | H13: 327157000 | I13: 332877000
B15: Inventories | C15: 12687000 | D15: 10770000 | E15: 9817000 | F15: 9548000 | G15: 8963000 | H15: 8260000 | I15: 7143000
B16: Trade receivables | C16: 83723000 | D16: 62291000 | E16: 55302000 | F16: 64875000 | G16: 62375000 | H16: 62756000 | I16: 60140000
B17: Unbilled receivables | C17: 39070000 | D17: 38908000 | E17: 36281000 | F17: 38090000 | G17: 35715000 | H17: 38366000 | I17: 34449000
B18: Other contract-related assets | C18: 3948000 | D18: 4444000 | E18: 6230000 | F18: 6372000 | G18: 5700000 | H18: 5657000 | I18: 4721000
... B43: Total equity and liabilities | C43: 721862000 | D43: 705555000 | E43: 698331000 | F43: 716188000 | G43: 710529000 | H43: 704416000 | I43: 704476000
B46: Additional information:
B47: Deferred revenue breakdown
B48: Automotive | C48: 432459000 | D48: 423407000 | E48: 428636000 | F48: 429121000 | G48: 423030000 | H48: 417948000 | I48: 408696000
B49: Enterprise | C49: 17714000 | D49: 16353000 | E49: 16581000 | F49: 17009000 | G49: 17368000 | H49: 18235000 | I49: 20251000
B50: Consumer | C50: 19658000 | D50: 20074000 | E50: 21302000 | F50: 20110000 | G50: 18940000 | H50: 18908000 | I50: 19619000
B51: Gross deferred revenue | C51: 469831000 | D51: 459834000 | E51: 466519000 | F51: 466240000 | G51: 459338000 | H51: 455091000 | I51: 448566000
B53: Automotive | C53: -30894000 | D53: -32957000 | E53: -48637000 | F53: -34853000 | G53: -30312000 | H53: -31848000 | I53: -36512000
B54: Enterprise | C54: -4516000 | D54: -5529000 | E54: -6436000 | F54: -7305000 | G54: -7085000 | H54: -9410000 | I54: -10677000
B55: Netting adjustment to unbilled revenue | C55: -35410000 | D55: -38486000 | E55: -55073000 | F55: -42158000 | G55: -37397000 | H55: -41258000 | I55: -47189000
B57: Automotive | C57: 401565000 | D57: 390450000 | E57: 379999000 | F57: 394268000 | G57: 392718000 | H57: 386100000 | I57: 372184000
B58: Enterprise | C58: 13198000 | D58: 10824000 | E58: 10145000 | F58: 9704000 | G58: 10283000 | H58: 8825000 | I58: 9574000
B59: Consumer | C59: 19658000 | D59: 20074000 | E59: 21302000 | F59: 20110000 | G59: 18940000 | H59: 18908000 | I59: 19619000
B60: Net deferred revenue | C60: 434421000 | D60: 421348000 | E60: 411446000 | F60: 424082000 | G60: 421941000 | H60: 413833000 | I60: 401377000
B63: Net cash
B64: Cash and cash equivalents at the end of the period | C64: 56816000 | D64: 54718000 | E64: 55692000 | F64: 80651000 | G64: 68058000 | H64: 54171000 | I64: 64374000
B65: Cash placed in fixed term deposits | C65: 200336000 | D65: 211812000 | E65: 211253000 | F65: 182151000 | G65: 180000000 | H65: 180000000 | I65: 175000000
B66: Net cash at the end of the period | C66: 257152000 | D66: 266530000 | E66: 266945000 | F66: 262802000 | G66: 248058000 | H66: 234171000 | I66: 239374000

Sheet 4. Cons Stat of CF
B2: Consolidated condensed statement of cash flows
B3: ='1. Key figures table'!$B$3 -> Third quarter 2026 results
B5: (€ in thousands) | C5: Q2 '25 | D5: Q3 '25 | E5: Q4 '25 | F5: Q1 '26 | G5: Q2 '26 | H5: Q3 '26 | J5: YTD '26 | L5: YTD '25
B6: Operating result | C6: -19816000 | D6: 8414000 | E6: 7326000 | F6: 13767000 | G6: 8504000 | H6: 6048000 | J6: 28319000 | L6: -5685000
B7: Foreign exchange adjustments | C7: -1705000 | D7: -105000 | E7: -963000 | F7: 560000 | G7: 555000 | H7: 448000 | J7: 1563000 | L7: -2539000
B8: Depreciation and amortization | C8: 4515000 | D8: 4350000 | E8: 4511000 | F8: 4544000 | G8: 4064000 | H8: 3977000 | J8: 12585000 | L8: 13481000
B9: Change in provisions | C9: 24276000 | D9: -21157000 | E9: 496000 | F9: -1366000 | G9: -237000 | H9: 2338000 | J9: 735000 | L9: 1964000
B10: Equity-settled stock compensation expenses | C10: 3299000 | D10: 3642000 | E10: 3116000 | F10: 3125000 | G10: 4176000 | H10: 2654000 | J10: 9955000 | L10: 9862000
B11: Other non-cash movements | E11: 194000
B12: Changes in working capital:
B13: Change in inventories | C13: 2054000 | D13: 1050000 | E13: 523000 | F13: 564000 | G13: 318000 | H13: 1170000 | J13: 2052000 | L13: 3917000
B14: Change in receivables and prepayments | C14: 28947000 | D14: 10226000 | E14: -13169000 | F14: 1716000 | G14: -333000 | H14: 9681000 | J14: 11064000 | L14: 37738000
B15: Change in liabilities1 (excluding provisions) | C15: -17211000 | D15: 4757000 | E15: 8151000 | F15: -11983000 | G15: -13354000 | H15: -7927000 | J15: -33264000 | L15: -16319000
B16: Cash flow from operations | C16: 24359000 | D16: 11177000 | E16: 10185000 | F16: 10927000 | G16: 3693000 | H16: 18389000 | J16: 33009000 | L16: 42419000
B18: Interest received | C18: 1779000 | D18: 1733000 | E18: 1597000 | F18: 613000 | G18: 785000 | H18: 1174000 | J18: 2572000 | L18: 5055000
B19: Interest paid | C19: -419000 | D19: -441000 | E19: -397000 | F19: -443000 | G19: -452000 | H19: -432000 | J19: -1327000 | L19: -1291000
B20: Corporate income taxes paid | C20: -3446000 | D20: -2087000 | E20: -2881000 | F20: -1694000 | G20: -2883000 | H20: -2429000 | J20: -7006000 | L20: -7780000
B21: Cash flow from operating activities | C21: 22273000 | D21: 10382000 | E21: 8504000 | F21: 9403000 | G21: 1143000 | H21: 16702000 | J21: 27248000 | L21: 38403000
B23: Investments in intangible assets | C23: -7547000 | D23: -7013000 | E23: -8560000 | F23: -10383000 | G23: -8617000 | H23: -8397000 | J23: -27397000 | L23: -22316000
B24: Investments in property, plant and equipment | C24: -863000 | D24: -528000 | E24: -975000 | F24: -1086000 | G24: -982000 | H24: -1086000 | J24: -3154000 | L24: -2346000
B25: Proceeds from sale of investments | C25: 0 | D25: 0 | E25: 0 | F25: 0 | G25: 0 | H25: 0 | J25: 0 | L25: 0
B26: Dividends received | C26: 0 | D26: 0 | E26: 0 | F26: 0 | G26: 0 | H26: 0 | J26: 0 | L26: 0
B27: (Increase)/decrease in fixed-term deposits | C27: -11476000 | D27: 559000 | E27: 29102000 | F27: 2151000 | H27: 5000000 | J27: 7151000 | L27: -3513000
B28: Cash flow from investing activities | C28: -19886000 | D28: -6982000 | E28: 19567000 | F28: -9318000 | G28: -9599000 | H28: -4483000 | J28: -23400000 | L28: -28175000
B30: Payment of lease liabilities | C30: -2120000 | D30: -2385000 | E30: -2494000 | F30: -2250000 | G30: -1828000 | H30: -2057000 | J30: -6135000 | L30: -6962000
B31: Repayment of capital | C31: 0 | D31: 0 | E31: 0 | F31: 0 | G31: 0 | H31: 0 | J31: 0 | L31: 0
B32: Proceeds on issue of ordinary shares | C32: 0 | D32: 0 | E32: 0 | F32: 0 | G32: 0 | H32: 0 | J32: 0 | L32: 0
B33: Purchase of treasury shares | E33: -811000 | F33: -10569000 | G33: -3629000 | J33: -14198000
B34: Cash flow from financing activities | C34: -2120000 | D34: -2385000 | E34: -3305000 | F34: -12819000 | G34: -5457000 | H34: -2057000 | J34: -20333000 | L34: -6962000
B36: Net increase/(decrease) in cash and cash equivalents | C36: 267000 | D36: 1015000 | E36: 24766000 | F36: -12734000 | G36: -13913000 | H36: 10162000 | J36: -16485000 | L36: 3266000
B37: Cash and cash equivalents at the beginning of period | C37: 56816000 | D37: 54718000 | E37: 55692000 | F37: 80651000 | G37: 68058000 | H37: 54171000 | J37: 80651000 | L37: 55913000
B38: Exchange rate changes on cash balances held in foreign currencies | C38: -2365000 | D38: -41000 | E38: 193000 | F38: 141000 | G38: 26000 | H38: 41000 | J38: 208000 | L38: -3487000
B39: Cash and cash equivalents at the end of the period | C39: 54718000 | D39: 55692000 | E39: 80651000 | F39: 68058000 | G39: 54171000 | H39: 64374000 | J39: 64374000 | L39: 55692000
B41: Reconciliation to net cash
B42: Fixed-term deposits | C42: 211812000 | D42: 211253000 | E42: 182151000 | F42: 180000000 | G42: 180000000 | H42: 175000000 | J42: 175000000 | L42: 211253000
B43: Net cash | C43: 266530000 | D43: 266945000 | E43: 262802000 | F43: 248058000 | G43: 234171000 | H43: 239374000 | J43: 239374000 | L43: 266945000
B44: 1 Includes movements in the non-current portion of deferred revenue presented under non-current liabilities.
B46: Additional information:
B47: Free cash flow
B48: Cash flow from operating activities | C48: 22273000 | D48: 10382000 | E48: 8504000 | F48: 9403000 | G48: 1143000 | H48: 16702000 | J48: 27248000 | L48: 38403000
...

Sheet 5. Operational performance
B2: Operational performance
B3: ='1. Key figures table'!$B$3 -> Third quarter 2026 results
B5: (€ in thousands) | C5: Q2 '25 | D5: Q3 '25 | E5: Q4 '25 | F5: Q1 '26 | G5: Q2 '26 | H5: Q3 '26
B6: Total IFRS revenue | C6: ='2. Cons Stat of Income'!C11 -> 146198000 | D6: ='2. Cons Stat of Income'!D11 -> 136884000 | E6: ='2. Cons Stat of Income'!E11 -> 131203000 | F6: ='2. Cons Stat of Income'!F11 -> 129155000 | G6: ='2. Cons Stat of Income'!G11 -> 134572000 | H6: ='2. Cons Stat of Income'!H11 -> 128930000
B7: Automotive | C7: ='2. Cons Stat of Income'!C7 -> 86356000 | D7: ='2. Cons Stat of Income'!D7 -> 79545000 | E7: ='2. Cons Stat of Income'!E7 -> 77313000 | F7: ='2. Cons Stat of Income'!F7 -> 75731000 | G7: ='2. Cons Stat of Income'!G7 -> 81079000 | H7: ='2. Cons Stat of Income'!H7 -> 77654000
B8: Enterprise | C8: ='2. Cons Stat of Income'!C8 -> 39884000 | D8: ='2. Cons Stat of Income'!D8 -> 38715000 | E8: ='2. Cons Stat of Income'!E8 -> 38540000 | F8: ='2. Cons Stat of Income'!F8 -> 38471000 | G8: ='2. Cons Stat of Income'!G8 -> 38327000 | H8: ='2. Cons Stat of Income'!H8 -> 37109000
B9: Consumer | C9: ='2. Cons Stat of Income'!C10 -> 19958000 | D9: ='2. Cons Stat of Income'!D10 -> 18624000 | E9: ='2. Cons Stat of Income'!E10 -> 15350000 | F9: ='2. Cons Stat of Income'!F10 -> 14953000 | G9: ='2. Cons Stat of Income'!G10 -> 15166000 | H9: ='2. Cons Stat of Income'!H10 -> 14167000
B11: Movement of deferred revenue | C11: =SUM(C12:C14) -> -9997000 | D11: =SUM(D12:D14) -> 6685000 | E11: =SUM(E12:E14) -> -279000 | F11: =SUM(F12:F14) -> -6902000 | G11: =SUM(G12:G14) -> -4247000 | H11: =SUM(H12:H14) -> -6525000
B12: Automotive | C12: ='3. Cons Balance Sheet'!D48-'3. Cons Balance Sheet'!C48 -> -9052000 | D12: ='3. Cons Balance Sheet'!E48-'3. Cons Balance Sheet'!D48 -> 5229000 | E12: ='3. Cons Balance Sheet'!F48-'3. Cons Balance Sheet'!E48 -> 485000 | F12: ='3. Cons Balance Sheet'!G48-'3. Cons Balance Sheet'!F48 -> -6091000 | G12: ='3. Cons Balance Sheet'!H48-'3. Cons Balance Sheet'!G48 -> -5082000 | H12: ='3. Cons Balance Sheet'!I48-'3. Cons Balance Sheet'!H48 -> -9252000
B13: Enterprise | C13: ='3. Cons Balance Sheet'!D49-'3. Cons Balance Sheet'!C49 -> -1361000 | D13: ='3. Cons Balance Sheet'!E49-'3. Cons Balance Sheet'!D49 -> 228000 | E13: ='3. Cons Balance Sheet'!F49-'3. Cons Balance Sheet'!E49 -> 428000 | F13: ='3. Cons Balance Sheet'!G49-'3. Cons Balance Sheet'!F49 -> 359000 | G13: ='3. Cons Balance Sheet'!H49-'3. Cons Balance Sheet'!G49 -> 867000 | H13: ='3. Cons Balance Sheet'!I49-'3. Cons Balance Sheet'!H49 -> 2016000
B14: Consumer | C14: ='3. Cons Balance Sheet'!D50-'3. Cons Balance Sheet'!C50 -> 416000 | D14: ='3. Cons Balance Sheet'!E50-'3. Cons Balance Sheet'!D50 -> 1228000 | E14: ='3. Cons Balance Sheet'!F50-'3. Cons Balance Sheet'!E50 -> -1192000 | F14: ='3. Cons Balance Sheet'!G50-'3. Cons Balance Sheet'!F50 -> -1170000 | G14: ='3. Cons Balance Sheet'!H50-'3. Cons Balance Sheet'!G50 -> -32000 | H14: ='3. Cons Balance Sheet'!I50-'3. Cons Balance Sheet'!H50 -> 711000
B16: Total operational revenue | C16: =C11+C6 -> 136201000 | D16: =D11+D6 -> 143569000 | E16: =E11+E6 -> 130924000 | F16: =F11+F6 -> 122253000 | G16: =G11+G6 -> 130325000 | H16: =H11+H6 -> 122405000
B17: Automotive | C17: =C7+C12 -> 77304000 | D17: =D7+D12 -> 84774000 | E17: =E7+E12 -> 77798000 | F17: =F7+F12 -> 69640000 | G17: =G7+G12 -> 75997000 | H17: =H7+H12 -> 68402000
B18: Enterprise | C18: =C8+C13 -> 38523000 | D18: =D8+D13 -> 38943000 | E18: =E8+E13 -> 38968000 | F18: =F8+F13 -> 38830000 | G18: =G8+G13 -> 39194000 | H18: =H8+H13 -> 39125000
B19: Consumer | C19: =C9+C14 -> 20374000 | D19: =D9+D14 -> 19852000 | E19: =E9+E14 -> 14158000 | F19: =F9+F14 -> 13783000 | G19: =G9+G14 -> 15134000 | H19: =H9+H14 -> 14878000
B21: Cost of sales | C21: ='2. Cons Stat of Income'!C12 -> -17889000 | D21: ='2. Cons Stat of Income'!D12 -> -14771000 | E21: ='2. Cons Stat of Income'!E12 -> -14230000 | F21: ='2. Cons Stat of Income'!F12 -> -12714000 | G21: ='2. Cons Stat of Income'!G12 -> -12956000 | H21: ='2. Cons Stat of Income'!H12 -> -12278000
B23: Operational gross profit | C23: =C16+C21 -> 118312000 | D23: =D16+D21 -> 128798000 | E23: =E16+E21 -> 116694000 | F23: =F16+F21 -> 109539000 | G23: =G16+G21 -> 117369000 | H23: =H16+H21 -> 110127000
B25: Total cash spend | C25: =SUM(C26:C28) -> -154140000 | D25: =SUM(D26:D28) -> -119275000 | E25: =SUM(E26:E28) -> -117165000 | F25: =SUM(F26:F28) -> -111849000 | G25: =SUM(G26:G28) -> -120475000 | H25: =SUM(H26:H28) -> -118167000
B26: Operating expenses excluding D&A | C26: ='2. Cons Stat of Income'!C20+'4. Cons Stat of CF'!C8 -> -143610000 | D26: ='2. Cons Stat of Income'!D20+'4. Cons Stat of CF'!D8 -> -109349000 | E26: ='2. Cons Stat of Income'!E20+'4. Cons Stat of CF'!E8 -> -105136000 | F26: ='2. Cons Stat of Income'!F20+'4. Cons Stat of CF'!F8 -> -98130000 | G26: ='2. Cons Stat of Income'!G20+'4. Cons Stat of CF'!G8 -> -109048000 | H26: ='2. Cons Stat of Income'!H20+'4. Cons Stat of CF'!H8 -> -106627000
B27: CAPEX | C27: =('4. Cons Stat of CF'!C23+'4. Cons Stat of CF'!C24) -> -8410000 | D27: =('4. Cons Stat of CF'!D23+'4. Cons Stat of CF'!D24) -> -7541000 | E27: =('4. Cons Stat of CF'!E23+'4. Cons Stat of CF'!E24) -> -9535000 | F27: =('4. Cons Stat of CF'!F23+'4. Cons Stat of CF'!F24) -> -11469000 | G27: =('4. Cons Stat of CF'!G23+'4. Cons Stat of CF'!G24) -> -9599000 | H27: =('4. Cons Stat of CF'!H23+'4. Cons Stat of CF'!H24) -> -9483000
B28: Lease payments | C28: ='4. Cons Stat of CF'!C30 -> -2120000 | D28: ='4. Cons Stat of CF'!D30 -> -2385000 | E28: ='4. Cons Stat of CF'!E30 -> -2494000 | F28: ='4. Cons Stat of CF'!F30 -> -2250000 | G28: ='4. Cons Stat of CF'!G30 -> -1828000 | H28: ='4. Cons Stat of CF'!H30 -> -2057000
B30: Operational result | C30: =C23+C25 -> -35828000 | D30: =D23+D25 -> 9523000 | E30: =E23+E25 -> -471000 | F30: =F23+F25 -> -2310000 | G30: =G23+G25 -> -3106000 | H30: =H23+H25 -> -8040000
B33: Reconciliations:
B34: Operational result to Free Cash Flow (FCF)
B35: Working capital movements | C35: =SUM('4. Cons Stat of CF'!C13:C15)-C11 -> 23787000 | D35: =SUM('4. Cons Stat of CF'!D13:D15)-D11 -> 9348000 | E35: =SUM('4. Cons Stat of CF'!E13:E15)-E11 -> -4216000 | F35: =SUM('4. Cons Stat of CF'!F13:F15)-F11 -> -2801000 | G35: =SUM('4. Cons Stat of CF'!G13:G15)-G11 -> -9122000 | H35: =SUM('4. Cons Stat of CF'!H13:H15)-H11 -> 9449000
B36: Interest and Tax payments | C36: =SUM('4. Cons Stat of CF'!C18:C20) -> -2086000 | D36: =SUM('4. Cons Stat of CF'!D18:D20) -> -795000 | E36: =SUM('4. Cons Stat of CF'!E18:E20) -> -1681000 | F36: =SUM('4. Cons Stat of CF'!F18:F20) -> -1524000 | G36: =SUM('4. Cons Stat of CF'!G18:G20) -> -2550000 | H36: =SUM('4. Cons Stat of CF'!H18:H20) -> -1687000
B37: Lease payments | C37: =-'4. Cons Stat of CF'!C30 -> 2120000 | D37: =-'4. Cons Stat of CF'!D30 -> 2385000 | E37: =-'4. Cons Stat of CF'!E30 -> 2494000 | F37: =-'4. Cons Stat of CF'!F30 -> 2250000 | G37: =-'4. Cons Stat of CF'!G30 -> 1828000 | H37: =-'4. Cons Stat of CF'!H30 -> 2057000
B38: Other non-cash items | C38: ='4. Cons Stat of CF'!C7+'4. Cons Stat of CF'!C9+'4. Cons Stat of CF'!C10+'4. Cons Stat of CF'!C11 -> 25870000 | D38: ='4. Cons Stat of CF'!D7+'4. Cons Stat of CF'!D9+'4. Cons Stat of CF'!D10+'4. Cons Stat of CF'!D11 -> -17620000 | E38: ='4. Cons Stat of CF'!E7+'4. Cons Stat of CF'!E9+'4. Cons Stat of CF'!E10+'4. Cons Stat of CF'!E11 -> 2843000 | F38: ='4. Cons Stat of CF'!F7+'4. Cons Stat of CF'!F9+'4. Cons Stat of CF'!F10+'4. Cons Stat of CF'!F11 -> 2319000 | G38: ='4. Cons Stat of CF'!G7+'4. Cons Stat of CF'!G9+'4. Cons Stat of CF'!G10+'4. Cons Stat of CF'!G11 -> 4494000 | H38: ='4. Cons Stat of CF'!H7+'4. Cons Stat of CF'!H9+'4. Cons Stat of CF'!H10+'4. Cons Stat of CF'!H11 -> 5440000
B39: Restructuring related cash flow | D39: ='4. Cons Stat of CF'!D53 -> 13788000 | E39: ='4. Cons Stat of CF'!E53 -> 5142000 | F39: ='4. Cons Stat of CF'!F53 -> 3148000 | G39: ='4. Cons Stat of CF'!G53 -> 522000 | H39: ='4. Cons Stat of CF'!H53 -> 389000
B40: FCF1 | C40: =C30+SUM(C35:C39) -> 13863000 | D40: =D30+SUM(D35:D39) -> 16629000 | E40: =E30+SUM(E35:E39) -> 4111000 | F40: =F30+SUM(F35:F39) -> 1082000 | G40: =G30+SUM(G35:G39) -> -7934000 | H40: =H30+SUM(H35:H39) -> 7608000
B43: FCF1 to net cash movement
B44: Lease payments | C44: ='4. Cons Stat of CF'!C30 -> -2120000 | D44: ='4. Cons Stat of CF'!D30 -> -2385000 | E44: ='4. Cons Stat of CF'!E30 -> -2494000 | F44: ='4. Cons Stat of CF'!F30 -> -2250000 | G44: ='4. Cons Stat of CF'!G30 -> -1828000 | H44: ='4. Cons Stat of CF'!H30 -> -2057000
B45: Cash flow from other investing and financing activities | E45: =SUM('4. Cons Stat of CF'!E25:E26)+SUM('4. Cons Stat of CF'!E31:E33) -> -811000 | F45: =SUM('4. Cons Stat of CF'!F25:F26)+SUM('4. Cons Stat of CF'!F31:F33) -> -10569000 | G45: =SUM('4. Cons Stat of CF'!G25:G26)+SUM('4. Cons Stat of CF'!G31:G33) -> -3629000
B46: Restructuring related cash flow | D46: =-D39 -> -13788000 | E46: =-E39 -> -5142000 | F46: =-F39 -> -3148000 | G46: =-G39 -> -522000 | H46: =-H39 -> -389000
B47: Exchange rate differences on cash and fixed-term deposits | C47: ='4. Cons Stat of CF'!C38+('3. Cons Balance Sheet'!D20-'3. Cons Balance Sheet'!C20+'4. Cons Stat of CF'!C27) -> -2365000 | D47: ='4. Cons Stat of CF'!D38+('3. Cons Balance Sheet'!E20-'3. Cons Balance Sheet'!D20+'4. Cons Stat of CF'!D27) -> -41000 | E47: ='4. Cons Stat of CF'!E38+('3. Cons Balance Sheet'!F20-'3. Cons Balance Sheet'!E20+'4. Cons Stat of CF'!E27) -> 193000 | F47: ='4. Cons Stat of CF'!F38+('3. Cons Balance Sheet'!G20-'3. Cons Balance Sheet'!F20+'4. Cons Stat of CF'!F27) -> 141000 | G47: ='4. Cons Stat of CF'!G38+('3. Cons Balance Sheet'!H20-'3. Cons Balance Sheet'!G20+'4. Cons Stat of CF'!G27) -> 26000 | H47: ='4. Cons Stat of CF'!H38+('3. Cons Balance Sheet'!I20-'3. Cons Balance Sheet'!H20+'4. Cons Stat of CF'!H27) -> 41000
B48: Net cash movement | C48: =SUM(C40,C44:C47) -> 9378000 | D48: =SUM(D40,D44:D47) -> 415000 | E48: =SUM(E40,E44:E47) -> -4143000 | F48: =SUM(F40,F44:F47) -> -14744000 | G48: =SUM(G40,G44:G47) -> -13887000 | H48: =SUM(H40,H44:H47) -> 5203000
B49: ¹ Free cash flow excludes restructuring payments related to the organizational realignment announced in June 2025.
B51: Movement in net cash to movement in cash equivalents
B52: Movement in fixed-term deposits | C52: =-'3. Cons Balance Sheet'!D20+'3. Cons Balance Sheet'!C20 -> -11476000 | D52: =-'3. Cons Balance Sheet'!E20+'3. Cons Balance Sheet'!D20 -> 559000 | E52: =-'3. Cons Balance Sheet'!F20+'3. Cons Balance Sheet'!E20 -> 29102000 | F52: =-'3. Cons Balance Sheet'!G20+'3. Cons Balance Sheet'!F20 -> 2151000 | H52: =-'3. Cons Balance Sheet'!I20+'3. Cons Balance Sheet'!H20 -> 5000000
B53: Exchange rate changes on cash balances held in foreign currencies | C53: =-'4. Cons Stat of CF'!C38 -> 2365000 | D53: =-'4. Cons Stat of CF'!D38 -> 41000 | E53: =-'4. Cons Stat of CF'!E38 -> -193000 | F53: =-'4. Cons Stat of CF'!F38 -> -141000 | G53: =-'4. Cons Stat of CF'!G38 -> -26000 | H53: =-'4. Cons Stat of CF'!H38 -> -41000
...
